BEGIN:VCALENDAR
VERSION:2.0
PRODID:-//eventon.com NONSGML v1.0//EN
CALSCALE:GREGORIAN
METHOD:PUBLISH
BEGIN:VEVENT
UID:69e73c3e332fe
DTSTAMP:20260421T085838Z
DTSTART:20260429T163000Z
DTEND:20260429T170000Z
LOCATION:
SUMMARY:Book Club
DESCRIPTION:Book Club\nhttps://www.pcplky.org/events/book-club-2/
URL:https://www.pcplky.org/events/book-club-2/
END:VEVENT
END:VCALENDAR